BEGIN:VCALENDAR
VERSION:2.0
PRODID:-//Федерация фехтования Санкт-Петербурга - ECPv4.7.3//NONSGML v1.0//EN
CALSCALE:GREGORIAN
METHOD:PUBLISH
X-WR-CALNAME:Федерация фехтования Санкт-Петербурга
X-ORIGINAL-URL:https://spb-fencing.org
X-WR-CALDESC:Events for Федерация фехтования Санкт-Петербурга
BEGIN:VEVENT
DTSTART;VALUE=DATE:20210508
DTEND;VALUE=DATE:20210516
DTSTAMP:20260422T203838
CREATED:20210415T091314Z
LAST-MODIFIED:20210415T091811Z
UID:10346-1620432000-1621123199@spb-fencing.org
SUMMARY:Первенство России среди молодежи (1998-2007 г.р.)
DESCRIPTION:г.Владикавказ \nПрограмма соревнований: \n\n\n\n08.05.2021  \n\n\nрапира  \n\n\nМ  \n\n\nЛичные  \n\n\n\n\n09.05.2021  \n\n\nрапира  \n\n\nЖ  \n\n\nЛичные  \n\n\n\n\n10.05.2021  \n\n\nрапира  \n\n\nЖ  \n\n\nКомандные  \n\n\n\n\n10.05.2021  \n\n\nрапира  \n\n\nМ  \n\n\nКомандные  \n\n\n\n\n11.05.2021  \n\n\nшпага  \n\n\nМ  \n\n\nЛичные  \n\n\n\n\n12.05.2021  \n\n\nшпага  \n\n\nЖ  \n\n\nЛичные  \n\n\n\n\n13.05.2021  \n\n\nшпага  \n\n\nЖ  \n\n\nКомандные  \n\n\n\n\n13.05.2021  \n\n\nшпага  \n\n\nМ  \n\n\nКомандные  \n\n\n\n\n14.05.2021  \n\n\nсабля  \n\n\nЖ  \n\n\nЛичные  \n\n\n\n\n14.05.2021  \n\n\nсабля  \n\n\nМ  \n\n\nЛичные  \n\n\n\n\n15.05.2021  \n\n\nсабля  \n\n\nЖ  \n\n\nКомандные  \n\n\n\n\n15.05.2021  \n\n\nсабля  \n\n\nМ  \n\n\nКомандные  \n\n\n\n
URL:https://spb-fencing.org/event/2021-05-08-rus-up24/
CATEGORIES:Всероссийские соревнования
ATTACH;FMTTYPE=image/jpeg:https://spb-fencing.org/wp-content/uploads/2018/11/logo_rusfencing_185.jpg
END:VEVENT
END:VCALENDAR